BEGIN:VCALENDAR
VERSION:2.0
PRODID:-//Clear Point Wellness - ECPv6.6.4.2//NONSGML v1.0//EN
CALSCALE:GREGORIAN
METHOD:PUBLISH
X-ORIGINAL-URL:https://www.clearpointwellness.com
X-WR-CALDESC:Events for Clear Point Wellness
REFRESH-INTERVAL;VALUE=DURATION:PT1H
X-Robots-Tag:noindex
X-PUBLISHED-TTL:PT1H
BEGIN:VTIMEZONE
TZID:America/Chicago
BEGIN:DAYLIGHT
TZOFFSETFROM:-0600
TZOFFSETTO:-0500
TZNAME:CDT
DTSTART:20120311T080000
END:DAYLIGHT
BEGIN:STANDARD
TZOFFSETFROM:-0500
TZOFFSETTO:-0600
TZNAME:CST
DTSTART:20121104T070000
END:STANDARD
BEGIN:DAYLIGHT
TZOFFSETFROM:-0600
TZOFFSETTO:-0500
TZNAME:CDT
DTSTART:20130310T080000
END:DAYLIGHT
BEGIN:STANDARD
TZOFFSETFROM:-0500
TZOFFSETTO:-0600
TZNAME:CST
DTSTART:20131103T070000
END:STANDARD
BEGIN:DAYLIGHT
TZOFFSETFROM:-0600
TZOFFSETTO:-0500
TZNAME:CDT
DTSTART:20140309T080000
END:DAYLIGHT
BEGIN:STANDARD
TZOFFSETFROM:-0500
TZOFFSETTO:-0600
TZNAME:CST
DTSTART:20141102T070000
END:STANDARD
BEGIN:DAYLIGHT
TZOFFSETFROM:-0600
TZOFFSETTO:-0500
TZNAME:CDT
DTSTART:20150308T080000
END:DAYLIGHT
BEGIN:STANDARD
TZOFFSETFROM:-0500
TZOFFSETTO:-0600
TZNAME:CST
DTSTART:20151101T070000
END:STANDARD
BEGIN:DAYLIGHT
TZOFFSETFROM:-0600
TZOFFSETTO:-0500
TZNAME:CDT
DTSTART:20160313T080000
END:DAYLIGHT
BEGIN:STANDARD
TZOFFSETFROM:-0500
TZOFFSETTO:-0600
TZNAME:CST
DTSTART:20161106T070000
END:STANDARD
END:VTIMEZONE
BEGIN:VEVENT
DTSTART;TZID=America/Chicago:20160820T140000
DTEND;TZID=America/Chicago:20160820T170000
DTSTAMP:20260423T063737
CREATED:20160804T215342Z
LAST-MODIFIED:20160804T215342Z
UID:1902-1471701600-1471712400@www.clearpointwellness.com
SUMMARY:Pelvic Floor Workshop
DESCRIPTION:Please register through Mind Body Yoga \nPelvic Floor August 2016 \n 
URL:https://www.clearpointwellness.com/event/pelvic-floor-workshop-2/
LOCATION:Mind Body Yoga\, 12636 Research Blvd #206\, Austin\, TX\, 78759\, United States
CATEGORIES:Wellness
ORGANIZER;CN="Shannon Rashap":MAILTO:shannon@clearpointwellness.com
END:VEVENT
BEGIN:VEVENT
DTSTART;TZID=America/Chicago:20130912T080000
DTEND;TZID=America/Chicago:20130912T090000
DTSTAMP:20260423T063737
CREATED:20130828T194559Z
LAST-MODIFIED:20130910T222044Z
UID:1376-1378972800-1378976400@www.clearpointwellness.com
SUMMARY:Put Your Body Back In Your Life!
DESCRIPTION:Who needs a gym? Reconnect with your body under the shade of a beautiful tree!  This weekly\, low-impact class will teach you how to move with ease in your body.  Learn techniques to release tension while building strength and flexibility. \nThis week we will be talking about foot fitness and how it impacts balance.  Really great tips if you are into walking\, running or yoga. \nPlease bring: \nYoga mat \nTowel \nDonation based. More info below. \nhttp://www.clearpointwellness.com/wp-content/uploads/2013/09/Put-Your-Body-Flyer.pdf
URL:https://www.clearpointwellness.com/event/put-your-body-back-in-your-life-3/
LOCATION:Clear Point Wellness\, 2001 South 1st Street\, Austin\, TX\, 78704\, United States
CATEGORIES:Wellness
ORGANIZER;CN="Shannon Rashap":MAILTO:shannon@clearpointwellness.com
END:VEVENT
BEGIN:VEVENT
DTSTART;TZID=America/Chicago:20130619T173000
DTEND;TZID=America/Chicago:20130619T190000
DTSTAMP:20260423T063737
CREATED:20130508T205853Z
LAST-MODIFIED:20130508T210501Z
UID:1231-1371663000-1371668400@www.clearpointwellness.com
SUMMARY:Get your shoulders outta your ears!
DESCRIPTION:Join us for a workshop where you will learn how to: \n\nIdentify and recognize the physical stress points of working in the 21st century–working at a desk\, driving for long periods and writing emails on a smart phone or tablet.\nDiscover your best sitting posture to ease chronic tension.\nPerform simple stretches and pressure point techniques that you can do in the office\, car or plane to relieve neck and shoulder stiffness.\n\nClass limited to 10 spots so RSVP early!  Each attendee will receive a 30 minute\, private follow up session so you can integrate the content learned to your day-to-day movement!
URL:https://www.clearpointwellness.com/event/get-your-shoulders-outta-your-ears/
LOCATION:Clear Point Wellness\, 2001 South 1st Street\, Austin\, TX\, 78704\, United States
CATEGORIES:Wellness
END:VEVENT
BEGIN:VEVENT
DTSTART;TZID=America/Chicago:20130529T114500
DTEND;TZID=America/Chicago:20130529T130000
DTSTAMP:20260423T063737
CREATED:20130503T150306Z
LAST-MODIFIED:20130503T150648Z
UID:1227-1369827900-1369832400@www.clearpointwellness.com
SUMMARY:Austin Wellspring Network
DESCRIPTION:Are you a health and wellness professional? Join us in for a gathering of like-minded individuals. We will meet TWICE Monthly (2 & 4th Wednesday unless otherwise specified) at Beets Cafe\, downtown Austin. Please purchase some delicious vegan/raw food from the Cafe to cover or room cost. \nOur members are an integrative part of the growing healing community in South Austin including but not limited to: MDs\, RNs\, PTs\, Dentists\, Naturopaths\, Osteopaths\, Chiropractors\, Massage Therapists\, Acupuncturists\, Nutritionists\, Doulas\, Midwives\, Fitness trainers\, dance and Zumba instructors\, Pilates Instructors\, Feldinkras Practitioners\, Vocal Coaches\, Counselors\, Psychotherapists\, Psychologists\, Energy Healers\, Alphabioticists and those who sell health and wellness products\, etc. \nWe welcome professionals and students alike (Free for students).  Come learn about how to serve our community with broader focus and effectiveness.  We sincerely desire to build professional\, long-lasting relationships for the benefit of our business and clientele. \nIf you would like to be a speaker\, simply let us know and we will see about getting you on the schedule.
URL:https://www.clearpointwellness.com/event/austin-wellspring-network-5/
LOCATION:Beets Cafe\, 1611 West 5th Street\, Austin\, TX\, 78703\, United States
CATEGORIES:Wellness
END:VEVENT
BEGIN:VEVENT
DTSTART;TZID=America/Chicago:20130508T114500
DTEND;TZID=America/Chicago:20130508T130000
DTSTAMP:20260423T063737
CREATED:20130503T150121Z
LAST-MODIFIED:20130503T150121Z
UID:1226-1368013500-1368018000@www.clearpointwellness.com
SUMMARY:Austin Wellspring Network
DESCRIPTION:Are you a health and wellness professional? Join us in for a gathering of like-minded individuals. We will meet TWICE Monthly (2 & 4th Wednesday unless otherwise specified) at Beets Cafe\, downtown Austin. Please purchase some delicious vegan/raw food from the Cafe to cover or room cost. \nOur members are an integrative part of the growing healing community in South Austin including but not limited to: MDs\, RNs\, PTs\, Dentists\, Naturopaths\, Osteopaths\, Chiropractors\, Massage Therapists\, Acupuncturists\, Nutritionists\, Doulas\, Midwives\, Fitness trainers\, dance and Zumba instructors\, Pilates Instructors\, Feldinkras Practitioners\, Vocal Coaches\, Counselors\, Psychotherapists\, Psychologists\, Energy Healers\, Alphabioticists and those who sell health and wellness products\, etc. \nWe welcome professionals and students alike (Free for students).  Come learn about how to serve our community with broader focus and effectiveness.  We sincerely desire to build professional\, long-lasting relationships for the benefit of our business and clientele. \nIf you would like to be a speaker\, simply let us know and we will see about getting you on the schedule.
URL:https://www.clearpointwellness.com/event/austin-wellspring-network-4/
LOCATION:Beets Cafe\, 1611 West 5th Street\, Austin\, TX\, 78703\, United States
CATEGORIES:Wellness
END:VEVENT
BEGIN:VEVENT
DTSTART;TZID=America/Chicago:20130123T114500
DTEND;TZID=America/Chicago:20130123T130000
DTSTAMP:20260423T063737
CREATED:20130114T214531Z
LAST-MODIFIED:20130114T214531Z
UID:1162-1358941500-1358946000@www.clearpointwellness.com
SUMMARY:Austin Wellspring Network
DESCRIPTION:Join us in 2013 for a gathering of like-minded individuals centered around health and wellness.  We will meet TWICE Monthly (2 & 4th Wednesday unless otherwise specified) at Beets Cafe\, downtown Austin.  Please purchase some delicious vegan/raw food from the Cafe to cover or room cost. \nOur members are an integrative part of the growing healing community in South Austin including but not limited to: MDs\, RNs\, PTs\, Dentists\, Naturopaths\, Osteopaths\, Chiropractors\, Massage Therapists\, Acupuncturists\, Nutritionists\, Doulas\, Midwives\, Fitness trainers\, dance and Zumba instructors\, Pilates Instructors\, Feldinkras Practitioners\, Vocal Coaches\, Counselors\, Psychotherapists\, Psychologists\, Energy Healers\, Alphabioticists and those who sell health and wellness products\, etc. \nWe welcome professionals and students alike (Free for students).  Come learn about how to serve our community with broader focus and effectiveness.  We sincerely desire to build professional\, long-lasting relationships for the benefit of our business and clientele. \nIf you would like to be a speaker\, simply let us know and we will see about getting you on the schedule.
URL:https://www.clearpointwellness.com/event/austin-wellspring-network-3/
LOCATION:Beets Cafe\, 1611 West 5th Street\, Austin\, TX\, 78703\, United States
CATEGORIES:Wellness
END:VEVENT
BEGIN:VEVENT
DTSTART;TZID=America/Chicago:20130109T114500
DTEND;TZID=America/Chicago:20130109T130000
DTSTAMP:20260423T063737
CREATED:20121127T210128Z
LAST-MODIFIED:20121127T210128Z
UID:1142-1357731900-1357736400@www.clearpointwellness.com
SUMMARY:Austin Wellspring Network
DESCRIPTION:Join us in 2013 for a gathering of like-minded individuals centered around health and wellness.  We will meet TWICE Monthly (2 & 4th Wednesday unless otherwise specified) at Beets Cafe\, downtown Austin.  Please purchase some delicious vegan/raw food from the Cafe to cover or room cost. \nOur members are an integrative part of the growing healing community in South Austin including but not limited to: MDs\, RNs\, PTs\, Dentists\, Naturopaths\, Osteopaths\, Chiropractors\, Massage Therapists\, Acupuncturists\, Nutritionists\, Doulas\, Midwives\, Fitness trainers\, dance and Zumba instructors\, Pilates Instructors\, Feldinkras Practitioners\, Vocal Coaches\, Counselors\, Psychotherapists\, Psychologists\, Energy Healers\, Alphabioticists and those who sell health and wellness products\, etc. \nWe welcome professionals and students alike (Free for students).  Come learn about how to serve our community with broader focus and effectiveness.  We sincerely desire to build professional\, long-lasting relationships for the benefit of our business and clientele. \nIf you would like to be a speaker\, simply let us know and we will see about getting you on the schedule.
URL:https://www.clearpointwellness.com/event/austin-wellspring-network-2/
LOCATION:Beets Cafe\, 1611 West 5th Street\, Austin\, TX\, 78703\, United States
CATEGORIES:Wellness
END:VEVENT
BEGIN:VEVENT
DTSTART;TZID=America/Chicago:20121222T130000
DTEND;TZID=America/Chicago:20121222T160000
DTSTAMP:20260423T063737
CREATED:20121218T165627Z
LAST-MODIFIED:20121218T165627Z
UID:1154-1356181200-1356192000@www.clearpointwellness.com
SUMMARY:Tamale Making Party
DESCRIPTION:If you are interested in learning more about Chef Nelly’s wonderful gourmet tamales and would like to participate in this event\, please RSVP here: \nhttp://new.evite.com/#view_invite:eid=028DAAPMT7NZ5QB5EEPCH4ODDXPTEI \nCost is $40 and you will go home with delicious homemade pork tamales. RSVP fast — there is limited availability.
URL:https://www.clearpointwellness.com/event/tamale-making-party/
LOCATION:Clear Point Wellness\, 2001 South 1st Street\, Austin\, TX\, 78704\, United States
CATEGORIES:Wellness
END:VEVENT
BEGIN:VEVENT
DTSTART;TZID=America/Chicago:20121212T183000
DTEND;TZID=America/Chicago:20121212T203000
DTSTAMP:20260423T063737
CREATED:20121127T204719Z
LAST-MODIFIED:20121127T205933Z
UID:1138-1355337000-1355344200@www.clearpointwellness.com
SUMMARY:Austin Wellspring Network Holiday Party
DESCRIPTION:Thank you to our wonderful members for making 2012 a very successful year. We know that our group attracts some of the very best practitioners in town!  So in an effort to enjoy ourselves and relax in the busy holiday season\, Clear Point Wellness is hosting a Holiday Party for Austin Wellspring Members and their guests. This is a social and networking event. \nBeginning at 6:30pm Hors d’oeuvres will be served along with wine and beer. We will have a RAFFLE\, so bring an item or a little something (maybe even a complimentary session with YOU!) to the event and drop your business card in the bowl to win. Event will go until about 8:30pm. \nOur cabinet hopes that you will join us for this fun event. Come and meet some new people and deepen relationships with old friends.
URL:https://www.clearpointwellness.com/event/austin-wellspring-network-holiday-party/
LOCATION:Clear Point Wellness\, 2001 South 1st Street\, Austin\, TX\, 78704\, United States
CATEGORIES:Wellness
END:VEVENT
BEGIN:VEVENT
DTSTART;TZID=America/Chicago:20121128T114500
DTEND;TZID=America/Chicago:20121128T140000
DTSTAMP:20260423T063737
CREATED:20121127T182531Z
LAST-MODIFIED:20121127T204426Z
UID:1129-1354103100-1354111200@www.clearpointwellness.com
SUMMARY:Austin Wellspring Network
DESCRIPTION:Join like-minded wellness professionals for an enlightening luncheon at the cafe.
URL:https://www.clearpointwellness.com/event/austin-wellspring-network/
LOCATION:Beets Cafe\, 1611 West 5th Street\, Austin\, TX\, 78703\, United States
CATEGORIES:Wellness
END:VEVENT
END:VCALENDAR